Workbook

Sheet Budżet_Mały_Grant
G1: UWAGA! Kategorie kosztów wybieraj w kolejności: 1. Koszty promocji 2. Koszty administracyjne 3. Pozostałe koszty 4. Koszty projektu przeznaczone na działania edukacyjne. Wpisz wszystkie wydatki z danej kategorii zanim przejdziesz do następnej.
A2: PEŁNA NAZWA WNIOSKODAWCY:
A3: Imię i nazwisko osoby kontaktowej (pkt 19 Formularza wniosku):
A4: E-mail osoby kontaktowej (pkt 20 Formularza wniosku):
A5: Numer telefonu osoby kontaktowej (pkt 21 Formularza wniosku):
A7: Budżet DROGOWSKAZ 2025 - mały grant
A8: LP. | B8: KATEGORIA | C8: RODZAJ/NAZWA KOSZTU | D8: JEDNOSTKA | E8: LICZBA JEDNOSTEK | F8: KOSZT JEDNOSTKOWY | G8: RAZEM BRUTTO - DOTACJA | H8: WKŁAD WŁASNY(jeśli jest)
A9: =ROW() - ROW(Table2[[#Headers],[LP.]]) -> 1 | G9: =Table2[[#This Row],[LICZBA JEDNOSTEK]]*Table2[[#This Row],[KOSZT JEDNOSTKOWY]] -> 0
A10: =ROW() - ROW(Table2[[#Headers],[LP.]]) -> 2 | G10: =Table2[[#This Row],[LICZBA JEDNOSTEK]]*Table2[[#This Row],[KOSZT JEDNOSTKOWY]] -> 0
A11: =ROW() - ROW(Table2[[#Headers],[LP.]]) -> 3 | G11: =Table2[[#This Row],[LICZBA JEDNOSTEK]]*Table2[[#This Row],[KOSZT JEDNOSTKOWY]] -> 0
A12: =ROW() - ROW(Table2[[#Headers],[LP.]]) -> 4 | G12: =Table2[[#This Row],[LICZBA JEDNOSTEK]]*Table2[[#This Row],[KOSZT JEDNOSTKOWY]] -> 0
A13: =ROW() - ROW(Table2[[#Headers],[LP.]]) -> 5 | G13: =Table2[[#This Row],[LICZBA JEDNOSTEK]]*Table2[[#This Row],[KOSZT JEDNOSTKOWY]] -> 0
A14: =ROW() - ROW(Table2[[#Headers],[LP.]]) -> 6 | G14: =Table2[[#This Row],[LICZBA JEDNOSTEK]]*Table2[[#This Row],[KOSZT JEDNOSTKOWY]] -> 0
A15: =ROW() - ROW(Table2[[#Headers],[LP.]]) -> 7 | G15: =Table2[[#This Row],[LICZBA JEDNOSTEK]]*Table2[[#This Row],[KOSZT JEDNOSTKOWY]] -> 0
A16: =ROW() - ROW(Table2[[#Headers],[LP.]]) -> 8 | G16: =Table2[[#This Row],[LICZBA JEDNOSTEK]]*Table2[[#This Row],[KOSZT JEDNOSTKOWY]] -> 0
A17: =ROW() - ROW(Table2[[#Headers],[LP.]]) -> 9 | G17: =Table2[[#This Row],[LICZBA JEDNOSTEK]]*Table2[[#This Row],[KOSZT JEDNOSTKOWY]] -> 0
A18: =ROW() - ROW(Table2[[#Headers],[LP.]]) -> 10 | G18: =Table2[[#This Row],[LICZBA JEDNOSTEK]]*Table2[[#This Row],[KOSZT JEDNOSTKOWY]] -> 0
A19: =ROW() - ROW(Table2[[#Headers],[LP.]]) -> 11 | G19: =Table2[[#This Row],[LICZBA JEDNOSTEK]]*Table2[[#This Row],[KOSZT JEDNOSTKOWY]] -> 0
A20: =ROW() - ROW(Table2[[#Headers],[LP.]]) -> 12 | G20: =Table2[[#This Row],[LICZBA JEDNOSTEK]]*Table2[[#This Row],[KOSZT JEDNOSTKOWY]] -> 0
... A38: =ROW() - ROW(Table2[[#Headers],[LP.]]) -> 30 | G38: =Table2[[#This Row],[LICZBA JEDNOSTEK]]*Table2[[#This Row],[KOSZT JEDNOSTKOWY]] -> 0
D39: RAZEM | G39: =SUM(G9:G38) -> 0 | H39: =SUM(Table2[WKŁAD WŁASNY(jeśli jest)]) -> 0
I40: Mały Grant - limit
D41: Koszty promocji(relacja foto/video) | G41: =SUMIF(Table2[KATEGORIA],'Dane wewnętrzne'!B6,Table2[RAZEM BRUTTO - DOTACJA]) -> 0 | H41: =IFERROR(G41/G39*100%,0) -> 0 | I41: 0
D42: Koszty administracyjne | G42: =SUMIF(Table2[KATEGORIA],'Dane wewnętrzne'!B7,Table2[RAZEM BRUTTO - DOTACJA]) -> 0 | H42: =IFERROR(G42/G39*100%,0) -> 0 | I42: max 15%
D43: Pozostałe koszty np. infrastruktura | G43: =SUMIF(Table2[KATEGORIA],'Dane wewnętrzne'!B8,Table2[RAZEM BRUTTO - DOTACJA]) -> 0 | H43: =IFERROR(G43/G39*100%,0) -> 0
D44: Koszty projektu przeznaczone na działania edukacyjne (min. 50%) | G44: =SUMIF(Table2[KATEGORIA],'Dane wewnętrzne'!B5,Table2[RAZEM BRUTTO - DOTACJA]) -> 0 | H44: =IFERROR(G44/G39*100%,0) -> 0 | I44: min 50%

Sheet wytyczne dot. kosztów projektu
A3: Wytyczne dotyczące kosztów Projektu – Program Grantowy Drogowskaz
A5: Koszty kwalifikowane to inaczej dozwolone wydatki w planowanym przez Państwa projekcie. Dzielimy je na koszty edukacyjne, administracyjne i promocyjne. Poniżej przedstawiamy przykładowy katalog takich wydatków w podziale na poszczególne kategorie. Pamiętajcie jednak o tym, że to jedynie przykłady. Zachęcamy Was do poszukiwania własnych pomysłów. Niech będą one kreatywnym i nowatorskim podejściem do realizacji projektów edukacyjnych. W poprzednich edycjach Drogowskazu premiowaliśmy takie projekty jak: przedstawienia teatralne, rajdy rowerowe, kampanie edukacyjne, warsztaty eksperymentalne, edukacyjne gry terenowe. Mamy nadzieję, że tegoroczne wnioski będą pełne inspirujących rozwiązań. Zachęcamy zatem do innowacyjnego podejścia do tematu edukacji BRD.
A6: Koszty projektu przeznaczone na działania projektowe obejmują koszty niezbędne i bezpośrednio związane z realizacją projektu i służą realizacji jego celu edukacyjnego.
A7: Poniżej przykładowa lista kosztów, które można ponieść przy realizacji projektów.
A8: Koszty przeznaczone na działania edukacyjne:
A9: Przykładowy katalog kosztów obejmuje:
A10: Zakup/instalacja małej infrastruktury, takiej jak:
A11: mobilne i niemobilne „miasteczka ruchu drogowego”.
A12: liczniki pomiaru prędkości.
A13: progi zwalniające.
A14: Odblaski.
A15: Kamizelki odblaskowe.
... A40: Prace architektoniczne, geodezyjne

Sheet Dane wewnętrzne
B3: Lista wybieralna
B5: Koszty projektu przeznaczone na działania edukacyjne (min. 50%)
B6: Koszty promocji(relacja foto/video)
B7: Koszty administracyjne
B8: Pozostałe koszty np. infrastruktura
B10: Wielkość grantu
B11: S
B13: ERRORS | D13: SUMA
B14: =IF(Budżet_Mały_Grant!G41>0,1,0) -> 0 | D14: =B14+B15+B16+B17 -> 1
B15: =IFERROR(IF(Budżet_Mały_Grant!H42>10%,1,0),0) -> 0
B16: =IFERROR(IF(Budżet_Mały_Grant!H44<50%,1,0),0) -> 1
B17: =IF(Budżet_Mały_Grant!G39>20000,1,0) -> 0
